BEGIN:VCALENDAR
VERSION:2.0
PRODID:-//eventon.com NONSGML v1.0//EN
BEGIN:VEVENT
UID:69e5ed5f76859
DTSTAMP:20260420T100951
DTSTART:20230318T171500Z
DTEND:20230318T191500Z
LOCATION:
SUMMARY:La Nuit de la Chouette : balade contée !
DESCRIPTION: La Balade Contée de la Nuit de la Chouette\,  dans les vallons et platières du Coquibus\,  une balade tranquille entre contes et nature\,  du coucher du soleil au crépuscule\,  pour guetter le réveil de la chouette et rêver à tout ce qu’elle a toujours su inspirer aux hommes… Samedi 18[..]
URL:https://parc-gatinais-francais.fr/evenements/la-nuit-de-la-chouette-balade-contee-2/
END:VEVENT
END:VCALENDAR