BEGIN:VCALENDAR
VERSION:2.0
PRODID:-//eventon.com NONSGML v1.0//EN
BEGIN:VEVENT
UID:69e9de1694504
DTSTAMP:20260423T095342
DTSTART:20230315T230000Z
DTEND:20230316T225900Z
LOCATION:
SUMMARY:Salon Arts et Traditions
DESCRIPTION: 15 et 16 avril - Milly-la-Forêt place du Colombier\,  Milly-la-Forêt
URL:https://parc-gatinais-francais.fr/evenements/salon-arts-et-traditions/
END:VEVENT
END:VCALENDAR