BEGIN:VCALENDAR
VERSION:2.0
PRODID:-//eventon.com NONSGML v1.0//EN
BEGIN:VEVENT
UID:69e4d59968afe
DTSTAMP:20260419T141609
DTSTART:20230923T050000Z
DTEND:20230923T160000Z
LOCATION:Parc des Manneries 77760 Amponvile\,  chemin des Manneries
SUMMARY:Fête communale d'Amponville
DESCRIPTION: Vide grenier\,  Festival des passionnés\,  marché des artisans\,  restauration sur place et la troupe Bras Band avec 30 musiciens. De 6h à 17h\,  parc des Manneries\,  77760 Amponville Gratuit
URL:https://parc-gatinais-francais.fr/evenements/fete-communale/
END:VEVENT
END:VCALENDAR