BEGIN:VCALENDAR
VERSION:2.0
PRODID:-//eventon.com NONSGML v1.0//EN
BEGIN:VEVENT
UID:69e751a122a3c
DTSTAMP:20260421T112953
DTSTART:20230922T230000Z
DTEND:20230923T225900Z
LOCATION:Auvers-Saint-Georges 91580 Auvers-Saint-Georges
SUMMARY:Journée Belle Epoque\,  Années folles
DESCRIPTION: Ferme pédagogique\,  fête foraine ancienne\,  petit carrousel\,  escape game\,  spectacles. Toute la journée\,  cœur du village et stade
URL:https://parc-gatinais-francais.fr/evenements/journee-belle-epoque-annees-folles/
END:VEVENT
END:VCALENDAR