BEGIN:VCALENDAR
VERSION:2.0
PRODID:-//eventon.com NONSGML v1.0//EN
BEGIN:VEVENT
UID:69ea91c8eee06
DTSTAMP:20260423T224024
DTSTART:20260414T230000Z
DTEND:20260516T225900Z
LOCATION:Médiathèque la Grange de Moigny-sur-Ecole 91490 Moigny-sur-Ecole\,  53 ter Grand-Rue
SUMMARY:Exposition photos : Jardin d’eau
DESCRIPTION: Photos de Sylvie Blangeot et Patrick Abel. Du 15 avril au 16 mai Médiathèque « La Grange »\,  53ter\,  Grande-Rue\,  Moigny-sur-École Mercredi : 10h/12h30 – 14h/18h Vendredi : 14h/18h Samedi : 10h/12h30 et 14h/17h
URL:https://parc-gatinais-francais.fr/evenements/exposition-photos-jardin-deau/
END:VEVENT
END:VCALENDAR