BEGIN:VCALENDAR
VERSION:2.0
PRODID:-//eventon.com NONSGML v1.0//EN
BEGIN:VEVENT
UID:69ea90c023e31
DTSTAMP:20260423T223600
DTSTART:20260426T083000Z
DTEND:20260426T110000Z
LOCATION:Maison des Associations de Janville-sur-Juine 69 grande rue\,  91510 Janville-sur-Juine
SUMMARY:Répare Café
DESCRIPTION: Un objet à réparer ? Ne le jetez pas\,  faites appel à nos répar’acteurs ! Dans une ambiance conviviale\,  l’équipe de répar’acteurs locaux bénévoles vous accueillera et tentera de solutionner la panne en vous expliquant pas à pas. Janville-sur-Juine (maison des associations\,  69 grande rue)\,  de 9h30 à 12h
URL:https://parc-gatinais-francais.fr/evenements/repare-cafe-2/
END:VEVENT
END:VCALENDAR