BEGIN:VCALENDAR
VERSION:2.0
PRODID:-//eventon.com NONSGML v1.0//EN
BEGIN:VEVENT
UID:69ea805800773
DTSTAMP:20260423T212600
DTSTART:20260709T170000Z
DTEND:20260709T200000Z
LOCATION:Recloses 77760 Recloses
SUMMARY:Le Bistrot Sauvage
DESCRIPTION: Bar et ambiance musicale avec Le Bistrot sauvage  ! Mare à la Bonne\,  de 18h à 21h. Tous les jeudis\,  de mai à août.
URL:https://parc-gatinais-francais.fr/evenements/le-bistrot-sauvage-10/
END:VEVENT
END:VCALENDAR