BEGIN:VCALENDAR
VERSION:2.0
PRODID:-//eventon.com NONSGML v1.0//EN
BEGIN:VEVENT
UID:69ea80b1487f7
DTSTAMP:20260423T212729
DTSTART:20260723T170000Z
DTEND:20260723T200000Z
LOCATION:Recloses 77760 Recloses
SUMMARY:Le Bistrot Sauvage
DESCRIPTION: Bar et ambiance musicale avec Le Bistrot sauvage  ! Mare à la Bonne\,  de 18h à 21h. Tous les jeudis\,  de mai à août.
URL:https://parc-gatinais-francais.fr/evenements/le-bistrot-sauvage-12/
END:VEVENT
END:VCALENDAR