BEGIN:VCALENDAR
VERSION:2.0
PRODID:-//eventon.com NONSGML v1.0//EN
BEGIN:VEVENT
UID:69ea807bc3059
DTSTAMP:20260423T212635
DTSTART:20260414T230000Z
DTEND:20260429T225900Z
LOCATION:Médiathèque municipale de Bouray-sur-Juine 91850 Bouray-sur-Juine\,  55 rue Haute
SUMMARY:Pastels : exposition de peinture
DESCRIPTION: Du mercredi 15 au mercredi 29 avril : Pastels - Exposition de peinture présentée par Françoise Montreau à la Médiathèque municipale (55\,  Rue Haute).
URL:https://parc-gatinais-francais.fr/evenements/pastels-exposition-de-peinture/
END:VEVENT
END:VCALENDAR