BEGIN:VCALENDAR
VERSION:2.0
PRODID:-//eventon.com NONSGML v1.0//EN
BEGIN:VEVENT
UID:69ea8207ea535
DTSTAMP:20260423T213311
DTSTART:20260517T230000Z
DTEND:20260528T225900Z
LOCATION:Mairie de Bouray-sur-Juine 91850 Bouray-sur-Juine\,  18 rue de la Mairie
SUMMARY:Exposition : Aux origines du son
DESCRIPTION: Du lundi 18 au jeudi 28 mai Exposition « Aux origines du son » de l’association A travers Champs proposée par la Mairie en journée en Mairie de Bouray-sur-Juine (entrée gratuite).
URL:https://parc-gatinais-francais.fr/evenements/exposition-aux-origines-du-son/
END:VEVENT
END:VCALENDAR