BEGIN:VCALENDAR
VERSION:2.0
PRODID:-//eventon.com NONSGML v1.0//EN
BEGIN:VEVENT
UID:69ea7fb1d6573
DTSTAMP:20260423T212313
DTSTART:20260529T230000Z
DTEND:20260530T225900Z
LOCATION:Salle polyvalente Du Noyer Courteau à Bouray-sur-Juine 91850 Bouray-sur-Juine\,  RD 99
SUMMARY:Gala de danse
DESCRIPTION: Samedi 30 mai Gala de danse organisé par l’association JADLS à partir de 20h salle du Noyer Courteau (GPS rue de Provence).
URL:https://parc-gatinais-francais.fr/evenements/gala-de-danse-2/
END:VEVENT
END:VCALENDAR