BEGIN:VCALENDAR
VERSION:2.0
PRODID:-//eventon.com NONSGML v1.0//EN
BEGIN:VEVENT
UID:69eb56b7e2ba4
DTSTAMP:20260424T124039
DTSTART:20260509T183000Z
DTEND:20260519T203000Z
LOCATION:Grez-sur-Loing 77880 Grez-sur-Loing
SUMMARY:Concert Gospel et lyrique
DESCRIPTION: Concert gospel et lyrique suivi d’un cocktail au Prieuré. Eglise et Prieuré\,  19h30. 15€ par personne 8€ - 18 ans Gratuit pour les enfants.
URL:https://parc-gatinais-francais.fr/evenements/concert-gospel-et-lyrique/
END:VEVENT
END:VCALENDAR