BEGIN:VCALENDAR
VERSION:2.0
PRODID:-//eventon.com NONSGML v1.0//EN
BEGIN:VEVENT
UID:69eb585542369
DTSTAMP:20260424T124733
DTSTART:20260520T230000Z
DTEND:20260526T225900Z
LOCATION:Le Prieuré de Grez-sur-Loing Rue Wilson\,  77880 Grez-sur-Loing
SUMMARY:Exposition artistique
DESCRIPTION: Evènement artistique sur le pont. Par « GREZ’ARTS »\,  Association des Artistes de Grez-sur-Loing.
URL:https://parc-gatinais-francais.fr/evenements/exposition-artistique/
END:VEVENT
END:VCALENDAR